BEGIN:VCALENDAR
VERSION:2.0
PRODID:-//Squarespace Inc/Squarespace 6//v6//EN
BEGIN:VEVENT
UID:591b777fff7c504abf4d2d70@squarespace.com
DTSTAMP:20170516T221033Z
DTSTART:20170602T020000Z
DTEND:20170602T030000Z
SUMMARY:School Cross Country
END:VEVENT
END:VCALENDAR
