BEGIN:VCALENDAR
VERSION:2.0
PRODID:-//Squarespace Inc/Squarespace 6//v6//EN
BEGIN:VEVENT
UID:591b7543d2b857a450e9ef76@squarespace.com
DTSTAMP:20170516T215642Z
DTSTART:20170523T020000Z
DTEND:20170523T030000Z
SUMMARY:School Assmebly
END:VEVENT
END:VCALENDAR
