BEGIN:VCALENDAR
VERSION:2.0
PRODID:-//Squarespace Inc/Squarespace 6//v6//EN
BEGIN:VEVENT
UID:58e17d0bbe65941eab1403b4@squarespace.com
DTSTAMP:20170402T223759Z
DTSTART:20170430T210000Z
DTEND:20170501T030000Z
SUMMARY:First Day of Term 2
END:VEVENT
END:VCALENDAR
