BEGIN:VCALENDAR
VERSION:2.0
PRODID:-//Squarespace Inc/Squarespace 6//v6//EN
BEGIN:VEVENT
UID:58e17b0520099e5b01e7e703@squarespace.com
DTSTAMP:20170402T223205Z
DTSTART:20170406T020000Z
DTEND:20170406T030000Z
SUMMARY:School Assembly
END:VEVENT
END:VCALENDAR
