BEGIN:VCALENDAR
VERSION:2.0
PRODID:-//Squarespace Inc/Squarespace 6//v6//EN
BEGIN:VEVENT
UID:58e17d5517bffc2b38893d8c@squarespace.com
DTSTAMP:20170402T231438Z
DTSTART:20170512T033000Z
DTEND:20170512T083000Z
SUMMARY:Twilight Fair
END:VEVENT
END:VCALENDAR
