BEGIN:VCALENDAR
VERSION:2.0
PRODID:-//Squarespace Inc/Squarespace 6//v6//EN
BEGIN:VEVENT
UID:58e17c57197aea8ba600929e@squarespace.com
DTSTAMP:20170402T223640Z
DTSTART:20170412T210000Z
DTEND:20170413T030000Z
SUMMARY:Teacher Only Day - Restorative Practice 
END:VEVENT
END:VCALENDAR
