BEGIN:VCALENDAR
VERSION:2.0
PRODID:-//Squarespace Inc/Squarespace 6//v6//EN
BEGIN:VEVENT
UID:58e17bf520099e5b01e7f1f5@squarespace.com
DTSTAMP:20170402T223348Z
DTSTART:20170411T210000Z
DTEND:20170412T030000Z
SUMMARY:Last day of Term
END:VEVENT
END:VCALENDAR
