BEGIN:VCALENDAR
VERSION:2.0
PRODID:-//Squarespace Inc/Squarespace 6//v6//EN
BEGIN:VEVENT
UID:58853956d1758e6708ca2130@squarespace.com
DTSTAMP:20170122T230339Z
DTSTART:20170219T200000Z
DTEND:20170223T020000Z
SUMMARY:Room 1 camp to Totaranui 
END:VEVENT
END:VCALENDAR
