BEGIN:VCALENDAR
VERSION:2.0
PRODID:-//Squarespace Inc/Squarespace 6//v6//EN
BEGIN:VEVENT
UID:588538f520099ed871c05825@squarespace.com
DTSTAMP:20170122T225919Z
DTSTART:20170130T200000Z
DTEND:20170131T020000Z
SUMMARY:First day back for 2017
END:VEVENT
END:VCALENDAR
