BEGIN:VCALENDAR
VERSION:2.0
PRODID:-//Squarespace Inc/Squarespace 6//v6//EN
BEGIN:VEVENT
UID:5822437bd1758e8ae779083e@squarespace.com
DTSTAMP:20161108T212917Z
DTSTART:20161207T000000Z
DTEND:20161207T010000Z
SUMMARY:BOT Meeting
END:VEVENT
END:VCALENDAR
