BEGIN:VCALENDAR
VERSION:2.0
PRODID:-//Squarespace Inc/Squarespace 6//v6//EN
BEGIN:VEVENT
UID:582242ec03596e7e2d0f4cfc@squarespace.com
DTSTAMP:20161127T225817Z
DTSTART:20161204T210000Z
DTEND:20161204T220000Z
SUMMARY:Year 6 Powhiri at GBHS
END:VEVENT
END:VCALENDAR
