BEGIN:VCALENDAR
VERSION:2.0
PRODID:-//Squarespace Inc/Squarespace 6//v6//EN
BEGIN:VEVENT
UID:582241fd3e00be7d1131007b@squarespace.com
DTSTAMP:20161109T222255Z
DTSTART:20161202T050000Z
DTEND:20161202T200000Z
SUMMARY:Room 1 Camp to Mangarakau Swamp Day 4
END:VEVENT
END:VCALENDAR
