BEGIN:VCALENDAR
VERSION:2.0
PRODID:-//Squarespace Inc/Squarespace 6//v6//EN
BEGIN:VEVENT
UID:582244423e00be7d1131286b@squarespace.com
DTSTAMP:20161108T213246Z
DTSTART:20161216T140000Z
DTEND:20161216T200000Z
SUMMARY:Final Day
END:VEVENT
END:VCALENDAR
