BEGIN:VCALENDAR
VERSION:2.0
PRODID:-//Squarespace Inc/Squarespace 6//v6//EN
BEGIN:VEVENT
UID:582243c5f7e0ab9a6a1ff984@squarespace.com
DTSTAMP:20161108T213133Z
DTSTART:20161212T183000Z
DTEND:20161212T200000Z
SUMMARY:Final Assembly
END:VEVENT
END:VCALENDAR
