BEGIN:VCALENDAR
VERSION:2.0
PRODID:-//Squarespace Inc/Squarespace 6//v6//EN
BEGIN:VEVENT
UID:582241579f7456df623c9f11@squarespace.com
DTSTAMP:20161109T222212Z
DTSTART:20161201T050000Z
DTEND:20161202T045900Z
SUMMARY:Room 1 Camp to Mangarakau Swamp Day 3
END:VEVENT
END:VCALENDAR
