BEGIN:VCALENDAR
VERSION:2.0
PRODID:-//Squarespace Inc/Squarespace 6//v6//EN
BEGIN:VEVENT
UID:58223eedbe65942f5d71d7f7@squarespace.com
DTSTAMP:20161108T212456Z
DTSTART:20161124T140000Z
DTEND:20161124T164500Z
SUMMARY:Denise on CRT Release. Sarah Crowther Teaching for a Half Day.
END:VEVENT
END:VCALENDAR
