BEGIN:VCALENDAR
VERSION:2.0
PRODID:-//Squarespace Inc/Squarespace 6//v6//EN
BEGIN:VEVENT
UID:5822408403596e7e2d0f20a8@squarespace.com
DTSTAMP:20161109T222146Z
DTSTART:20161130T050000Z
DTEND:20161201T045900Z
SUMMARY:Room 1 Camp to Mangarakau Swamp Day 2
END:VEVENT
END:VCALENDAR
