BEGIN:VCALENDAR
VERSION:2.0
PRODID:-//Squarespace Inc/Squarespace 6//v6//EN
BEGIN:VEVENT
UID:58223ffe5016e1c5e04b6fdf@squarespace.com
DTSTAMP:20161109T222126Z
DTSTART:20161129T140000Z
DTEND:20161130T050000Z
SUMMARY:Room 1 Camp  to Mangarakau Swamp Day 1
END:VEVENT
END:VCALENDAR
