BEGIN:VCALENDAR
VERSION:2.0
PRODID:-//Squarespace Inc/Squarespace 6//v6//EN
BEGIN:VEVENT
UID:58223f2b197aea6b50eb46f1@squarespace.com
DTSTAMP:20161108T211314Z
DTSTART:20161128T183000Z
DTEND:20161128T200000Z
SUMMARY:Uruwhenua Women's Institute Running ALP Groups
END:VEVENT
END:VCALENDAR
