BEGIN:VCALENDAR
VERSION:2.0
PRODID:-//Squarespace Inc/Squarespace 6//v6//EN
BEGIN:VEVENT
UID:58223ddc1b631b21490defd8@squarespace.com
DTSTAMP:20161108T210742Z
DTSTART:20161123T161500Z
DTEND:20161123T170000Z
SUMMARY:Music Concert for Residents at the Hospital
END:VEVENT
END:VCALENDAR
