BEGIN:VCALENDAR
VERSION:2.0
PRODID:-//Squarespace Inc/Squarespace 6//v6//EN
BEGIN:VEVENT
UID:58223cdf8419c26748608d1b@squarespace.com
DTSTAMP:20161108T210322Z
DTSTART:20161121T183000Z
DTEND:20161121T193000Z
SUMMARY:GBHS visit from Year 7 Student.
END:VEVENT
END:VCALENDAR
