BEGIN:VCALENDAR
VERSION:2.0
PRODID:-//Squarespace Inc/Squarespace 6//v6//EN
BEGIN:VEVENT
UID:58223b3ed482e996e759123f@squarespace.com
DTSTAMP:20161120T194041Z
DTSTART:20161124T140000Z
DTEND:20161124T200000Z
SUMMARY:Golden Bay Athletic Sports - New Date
GEO:-40.848162;172.807853
LOCATION:Golden Bay High School\, 12 Waitapu Road\, Takaka\, Tasman\, 7110\
 , New Zealand
END:VEVENT
END:VCALENDAR
