BEGIN:VCALENDAR
VERSION:2.0
PRODID:-//Squarespace Inc/Squarespace 6//v6//EN
BEGIN:VEVENT
UID:58223ab6cd0f683951b6cc0d@squarespace.com
DTSTAMP:20161108T205147Z
DTSTART:20161117T190000Z
DTEND:20161117T200000Z
SUMMARY:Tennis Coaching
END:VEVENT
END:VCALENDAR
