BEGIN:VCALENDAR
VERSION:2.0
PRODID:-//Squarespace Inc/Squarespace 6//v6//EN
BEGIN:VEVENT
UID:582236fd29687f56940f768b@squarespace.com
DTSTAMP:20161108T205002Z
DTSTART:20161118T000000Z
DTEND:20161118T020000Z
SUMMARY:Information Evening at GBHS for Parents of Year 6 Students
END:VEVENT
END:VCALENDAR
