BEGIN:VCALENDAR
VERSION:2.0
PRODID:-//Squarespace Inc/Squarespace 6//v6//EN
BEGIN:VEVENT
UID:582239499de4bb393372628f@squarespace.com
DTSTAMP:20161108T204939Z
DTSTART:20161117T140000Z
DTEND:20161117T164500Z
SUMMARY:Denise on CRT release. Sarah Crowther teaching for a half day.
END:VEVENT
END:VCALENDAR
