BEGIN:VCALENDAR
VERSION:2.0
PRODID:-//Squarespace Inc/Squarespace 6//v6//EN
BEGIN:VEVENT
UID:58223385e4fcb51f792df4ec@squarespace.com
DTSTAMP:20161108T202212Z
DTSTART:20161116T140000Z
DTEND:20161116T150000Z
SUMMARY:Visit from Golden Kids
END:VEVENT
END:VCALENDAR
