BEGIN:VCALENDAR
VERSION:2.0
PRODID:-//Squarespace Inc/Squarespace 6//v6//EN
BEGIN:VEVENT
UID:5822306ce4fcb51f792dbc5a@squarespace.com
DTSTAMP:20161108T201806Z
DTSTART:20161114T190000Z
DTEND:20161114T200000Z
SUMMARY:Assembly
END:VEVENT
END:VCALENDAR
