BEGIN:VCALENDAR
VERSION:2.0
PRODID:-//Squarespace Inc/Squarespace 6//v6//EN
BEGIN:VEVENT
UID:58222f0c2e69cf3496163d1b@squarespace.com
DTSTAMP:20161108T201954Z
DTSTART:20161110T190000Z
DTEND:20161110T200000Z
SUMMARY:Tennis Coaching
END:VEVENT
END:VCALENDAR
